BEGIN:VCALENDAR
VERSION:2.0
PRODID:-//Christ Church Summit - ECPv6.15.18//NONSGML v1.0//EN
CALSCALE:GREGORIAN
METHOD:PUBLISH
X-ORIGINAL-URL:https://www.christchurchsummit.org
X-WR-CALDESC:Events for Christ Church Summit
REFRESH-INTERVAL;VALUE=DURATION:PT1H
X-Robots-Tag:noindex
X-PUBLISHED-TTL:PT1H
BEGIN:VTIMEZONE
TZID:UTC
BEGIN:STANDARD
TZOFFSETFROM:+0000
TZOFFSETTO:+0000
TZNAME:UTC
DTSTART:20170101T000000
END:STANDARD
END:VTIMEZONE
BEGIN:VEVENT
DTSTART;TZID=UTC:20181202T100000
DTEND;TZID=UTC:20181202T130000
DTSTAMP:20260421T150419
CREATED:20181106T183739Z
LAST-MODIFIED:20181115T175438Z
UID:26136-1543744800-1543755600@www.christchurchsummit.org
SUMMARY:Advent Workshop
DESCRIPTION:  \nAdvent Workshop\nPlease join us for the Advent Workshop on December 3rd right after the service.\n(We will not have an 11:15 Worship service that day.)  This year we will do some service projects to support area non-profits\, spend quality time together\, enjoy lunch and Christmas caroling. Please RSVP to mattie.azurmendi@gmail.com if you would like to attend.  Suggested donation of $5 per person or $20 per family.\n  \nItems need for the Advent Workshop on December 2nd\n  \nPlease bring the following items to the church atrium by\nThursday\, November 30: \nHoliday gift wrap\nMugs\nHot cocoa mix in individual packets\nPowdered soup mix in individual packets\nOld T-shirts in adult sizes\nGently Used Children’s Books\n  \nWREATH DECORATING for ADVENT WORKSHOP\nWe’re trying something a little different this year.  Wreath decorating will be offered after the lunch and carol sing for the Advent Workshop. It will be held in the Art Room.  Wreath decorating costs $20 per wreath\, with pre-signup required.  We need a minimum of 15 wreath signups to hold this event. Parents & children aged 8+ are welcome\, accompanied by an adult.   Take home a beautifully decorated wreath\, with the joy of creating it yourselves! Please email Penny Vigilante at pvigilante1@gmail.com  by Monday\, 11/26\, with name(s)\, email and contact info\, in order to reserve a spot.
URL:https://www.christchurchsummit.org/event/advent-workshop/
LOCATION:NJ
ATTACH;FMTTYPE=image/jpeg:https://www.christchurchsummit.org/wp-content/uploads/Advent-Workshop-hi-res.jpg
ORGANIZER;CN="Mattie Azurmendi":MAILTO:mattie.azurmendi@gmail.com
END:VEVENT
BEGIN:VEVENT
DTSTART;TZID=UTC:20181112T193000
DTEND;TZID=UTC:20181112T210000
DTSTAMP:20260421T150419
CREATED:20181109T191310Z
LAST-MODIFIED:20181109T191310Z
UID:26229-1542051000-1542056400@www.christchurchsummit.org
SUMMARY:Movie Screening of "The Borinqueneers"
DESCRIPTION:  \n THE BORINQUENEERS:\nJoin us for a screening of “The Borinqueneers” a documentary on the all-Puerto Rican 65th Infantry Regiment\nWhen: Monday November 12th at 7:30 pM\nWhere: Christ Church –Barnwell Hall\n               561 Springfield Avenue\n               Summit\, NJ 07901
URL:https://www.christchurchsummit.org/event/movie-screening-of-the-borinqueneers/
LOCATION:Christ Church BH\, 561 Springfield Avenue\, Summit\, NJ\, 07901\, United States
ATTACH;FMTTYPE=image/jpeg:https://www.christchurchsummit.org/wp-content/uploads/The-Borinqueneers.jpg
END:VEVENT
BEGIN:VEVENT
DTSTART;TZID=UTC:20181107T120000
DTEND;TZID=UTC:20181107T140000
DTSTAMP:20260421T150419
CREATED:20181012T175947Z
LAST-MODIFIED:20181024T172739Z
UID:26126-1541592000-1541599200@www.christchurchsummit.org
SUMMARY:The Gathering Place
DESCRIPTION:  \n \nThe Gathering Place – A Memory Cafe\nMembers and friends with memory loss are welcome to attend The Gathering Place with their care partners on the first\, Wednesday of every month beginning November 7. This new initiative will be held in Lile Hall from 12 noon to 2:00 with a light nutritious lunch\, music\, exercises\, storytelling\, art\, support\, and socialization. Care partners can talk with other care partners around the table. Free. RSVP to brenda@ccsnj.org
URL:https://www.christchurchsummit.org/event/the-gathering-place/
LOCATION:Lile Hall\, 561 Springfield Ave\, Summit\, NJ\, 07901\, United States
ATTACH;FMTTYPE=image/jpeg:https://www.christchurchsummit.org/wp-content/uploads/The-Gathering-Place-hi-res.jpg
END:VEVENT
BEGIN:VEVENT
DTSTART;TZID=UTC:20181105T073000
DTEND;TZID=UTC:20181105T210000
DTSTAMP:20260421T150419
CREATED:20181023T145530Z
LAST-MODIFIED:20181024T172638Z
UID:26179-1541403000-1541451600@www.christchurchsummit.org
SUMMARY:When Tweeting #MeToo is Not Enough
DESCRIPTION:When Tweeting #MeToo is Not Enough: A Time for Healing Conversations\n   Talking face-to-face with other women who have had personal experiences of sexual harassment\, abuse or assault can be a powerful antidote to the embarrassment and shame that has kept many of us silent and alone with our pain. It is clear that many of us here in our Christ Church community are ready to break that silence.\n   Please join us to speak more deeply about the emotional\, relational\, behavioral and spiritual effects we have experienced. We will focus on recognizing our strengths and survival strategies. We will explore ways to affirm our wholeness and vitality.\n   We are asking for a three-session commitment in order to create a safe and stable space to tell our stories and to create maximum support for healing.\nThree Monday Evenings 7:30 – 9:00pm in Lile Hall\nFacilitators:  Rev. Julie Yarborough\n                           Sharon McCombie\, LCSW (with over 40 years of experience\n                           working with survivors of sexual aggression)
URL:https://www.christchurchsummit.org/event/when-tweeting-metoo-is-not-enough/
LOCATION:Lile Hall\, 561 Springfield Ave\, Summit\, NJ\, 07901\, United States
ATTACH;FMTTYPE=image/jpeg:https://www.christchurchsummit.org/wp-content/uploads/When-MeToo-is-Not-Enouugh-hi-res.jpg
END:VEVENT
BEGIN:VEVENT
DTSTART;TZID=UTC:20181104T103000
DTEND;TZID=UTC:20181104T120000
DTSTAMP:20260421T150419
CREATED:20181015T185438Z
LAST-MODIFIED:20181025T163632Z
UID:26151-1541327400-1541332800@www.christchurchsummit.org
SUMMARY:Dia de Los Muertos
DESCRIPTION:  \nDia De Los Muertos\nJoin us Sunday November 4\, after the 9:30 am service we will be decorating an Ofrenda in Barnwell Hall in honor of the Day of the Dead. If you would like to participate\, please bring in a picture of a loved one or one of the loved one’s favorite item (such as food or drink) to place on the Ofrenda. We will have sugar skulls to decorate and stencils and tissue paper to cut out to make papel picado\, the garlands that decorate all festive celebrations in Mexico.
URL:https://www.christchurchsummit.org/event/dia-de-los-muertos/
LOCATION:NJ
ATTACH;FMTTYPE=image/jpeg:https://www.christchurchsummit.org/wp-content/uploads/Dia-de-Los-Muertos-1.jpg
END:VEVENT
BEGIN:VEVENT
DTSTART;TZID=UTC:20181103T193000
DTEND;TZID=UTC:20181103T220000
DTSTAMP:20260421T150419
CREATED:20180920T140149Z
LAST-MODIFIED:20181024T172536Z
UID:26083-1541273400-1541282400@www.christchurchsummit.org
SUMMARY:In Her Words - A Cabaret
DESCRIPTION:SAVE THE DATE!\nLooking for the perfect respite this season? Please join us on Saturday\, November 3rd at 7:30pm in Lile Hall for “In Her Words” A Celebration of Women Songwriters. Come enjoy the many talented members & friends of Christ Church singing songs written by women singer-songwriters of the 60’s\, 70’s & beyond!  Maybe you’ll hear your favorite Joni Mitchell or Carole King song or perhaps discover the work of a new artist.  Desserts & refreshments will be served.\n\nSuggested donation is $20.  All proceeds will be given to GRACE Refrigerator\, a fresh food kitchen housed at Christ Church\, which provides nutrient-dense foods\, including produce & dairy products\, to those in need.
URL:https://www.christchurchsummit.org/event/26083/
LOCATION:NJ
ATTACH;FMTTYPE=image/jpeg:https://www.christchurchsummit.org/wp-content/uploads/In-Her-Words-Cabaret-hi-res.jpg
ORGANIZER;CN="Nancy Mion":MAILTO:mion.nancy@gmail.com
END:VEVENT
BEGIN:VEVENT
DTSTART;TZID=UTC:20181028T093000
DTEND;TZID=UTC:20181028T103000
DTSTAMP:20260421T150419
CREATED:20181008T204413Z
LAST-MODIFIED:20181008T204413Z
UID:26113-1540719000-1540722600@www.christchurchsummit.org
SUMMARY:New Member Sunday
DESCRIPTION:  \nNew Member Sunday!\nMargaret Haughey\, new chair of the Membership Board would like to invite you to our next  New Member Sunday\, October 28th at the 9:30am service.\nIf you are interested in joining Christ Church\, please email her at haughey5@verizon.net or call (973) 449-1146 for more information. You may also contact any of the ministers if you should have more questions.
URL:https://www.christchurchsummit.org/event/new-member-sunday/
LOCATION:NJ
ATTACH;FMTTYPE=image/jpeg:https://www.christchurchsummit.org/wp-content/uploads/New-Member-Sunday-Hi-Res.jpg
ORGANIZER;CN="Margaret Haughey":MAILTO:haughey5@verizon.net
END:VEVENT
BEGIN:VEVENT
DTSTART;TZID=UTC:20181014T103000
DTEND;TZID=UTC:20181014T123000
DTSTAMP:20260421T150419
CREATED:20181008T202905Z
LAST-MODIFIED:20181008T202905Z
UID:26107-1539513000-1539520200@www.christchurchsummit.org
SUMMARY:Hispanic Heritage Sunday
DESCRIPTION:  \nOctober is Hispanic Heritage month!\nJoin us on Sunday\, October 14th during coffee hour for food\, Mariachi music and activities for children.
URL:https://www.christchurchsummit.org/event/hispanic-heritage-sunday/
LOCATION:NJ
ATTACH;FMTTYPE=image/jpeg:https://www.christchurchsummit.org/wp-content/uploads/Hispanic-Heritage2018-hi-res.jpg
END:VEVENT
BEGIN:VEVENT
DTSTART;TZID=UTC:20181014T080000
DTEND;TZID=UTC:20181208T200000
DTSTAMP:20260421T150419
CREATED:20181017T183639Z
LAST-MODIFIED:20181024T172445Z
UID:26160-1539504000-1544299200@www.christchurchsummit.org
SUMMARY:Stewardship 2019
DESCRIPTION:  \n  \nOur 2019 Stewardship Campaign\nWe need every family to do their part to help us keep our spiritual community vibrant.  You can mail your pledge card\, drop it in the plate\, send an email to mypledge@ccsnj.org or online at https://ccsnj.breezechms.com/give/online. For the next several weeks\, you can sign up to be a sustaining member during coffee hour. Thank you for what you do to make Christ Church vibrant.
URL:https://www.christchurchsummit.org/event/stewardship-2019/
LOCATION:NJ
ATTACH;FMTTYPE=image/jpeg:https://www.christchurchsummit.org/wp-content/uploads/Stewardship-2019-hi-res.jpg
END:VEVENT
BEGIN:VEVENT
DTSTART;TZID=UTC:20181006T093000
DTEND;TZID=UTC:20181006T120000
DTSTAMP:20260421T150419
CREATED:20180917T181737Z
LAST-MODIFIED:20181024T172139Z
UID:26078-1538818200-1538827200@www.christchurchsummit.org
SUMMARY:Bridges Run
DESCRIPTION:  \n \n  \nBridges Lunches Drop Off in Barnwell Hall  (see guidelines below) \nWe are gathering 200 lunches for our Bridges run \nIf you are available to help make 10-15 lunches (or more) please email Caroline Dean at cdean@ccsnj.org \nDrop off the lunches on Friday (October 5th) in the kitchen & refrigerator in Barnwell Hall at Christ Church from 10 am -5 pm \nOr on Saturday (October 6th) from 8am-9am. \n\n\n\n\n\nSign up today!\n \nBridges Run Volunteers: Saturday October 6th \n8th-12th grade volunteers & chaperones are invited to go on our \nBridges Run from 9:30am-12pm.  Friends are always welcome. \nBridges runs are amazing & life giving opportunities for all involved! \nEmail  Caroline at cdean@ccsnj.org \nFRESH LUNCHES: \nContents of a fresh brown bag lunch \n\nSandwich: preferably made with 100% white\, whole wheat or soft\, whole wheat with low sodium deli meat.  Please\, no peanut butter and jelly sandwiches.  Please do not put mayo\, mustard\, lettuce or tomato on the sandwich.  \nFruit: grapes\, clementines\, bananas\, pears or other soft fruit\nDairy Item: mozzarella\, cheddar or other cheese stick\, 4 or 6 oz yogurt with spoon or 2 squeezable yogurts\nChewy granola bar (reduced sugar if possible) or Nutrigrain-type fruit & cereal bar\nDrink: Water (6 or 8 oz. bottle)\n\nGuidelines for making fresh brown bag lunches \n\nPlease do NOT put sandwiches in the brown bag lunches – keep separate.\nKeep sandwiches refrigerated until delivery. \nWash hands and use surgical gloves.\nApproximately one pound of meat makes six to eight sandwiches.\nNote that loaves of bread vary in size; count the slices!\nMeat only (no condiments\, lettuce or tomatoes)\nWrap sandwiches in zip lock bags.\nMany of our friends have dental problems; please purchase soft fruit (no apples\, please.)\nAlthough not as healthy\, fruit cups are an alternative to fresh fruit – please remember spoons and napkins.\n\n 
URL:https://www.christchurchsummit.org/event/bridges-run/
LOCATION:NJ
ATTACH;FMTTYPE=image/png:https://www.christchurchsummit.org/wp-content/uploads/Bridges-Run.png
ORGANIZER;CN="Rev. Caroline Dean":MAILTO:cdean@ccsnj.org
END:VEVENT
BEGIN:VEVENT
DTSTART;VALUE=DATE:20181006
DTEND;VALUE=DATE:20181007
DTSTAMP:20260421T150419
CREATED:20180830T163110Z
LAST-MODIFIED:20180830T163110Z
UID:26052-1538784000-1538870399@www.christchurchsummit.org
SUMMARY:Nicaragua Shipment
DESCRIPTION:Nicaragua Donation Time\nOur Christ Church deadline for the next PeaceWorks humanitarian aid shipment to Nicaragua is set for Saturday Oct 6th. To our long-term partner organizations in Nicaragua who have suffered through recent national turmoil\, it is life-affirming to receive your gifts of gently used\, no-longer-needed goods: Summer clothing/swimwear/shoes; bed and bath linens; sturdy dolls and toys; unbreakable pots/pans/flatware; lawn/garden tools; baseball/soccer uniforms and equipment; school/crafts/office supplies; laptops; small flat-screen TVs; small appliances. Clean and working items only! Please box or bag donations and leave in “Nicaragua room” in church basement (follow signs). For bulky donations e.g. fridge\, washing machine\, gas stove\, set of office furniture\, please check with Marilyn Devroye 908-956-5826 mptd@msn.com or Dan Ocone 908-273-0968 ocone@math.rutgers.edu
URL:https://www.christchurchsummit.org/event/nicaragua-shipment/
LOCATION:Christ Church\, 561 Springfield Avenue\, Summit\, NJ\, 07901\, United States
ATTACH;FMTTYPE=image/jpeg:https://www.christchurchsummit.org/wp-content/uploads/Nicaragua1.jpg
END:VEVENT
BEGIN:VEVENT
DTSTART;TZID=UTC:20181003T200000
DTEND;TZID=UTC:20181003T210000
DTSTAMP:20260421T150419
CREATED:20181002T003944Z
LAST-MODIFIED:20181002T003944Z
UID:26095-1538596800-1538600400@www.christchurchsummit.org
SUMMARY:A Circle of Healing
DESCRIPTION:“Circle of Healing: A Time of Sharing & Prayer for Christ Church Women”\nWednesday October 3rd from 8pm-9pm in Lile Hall\nFacilitated by Rev. Julie Yarborough & Rev. Caroline Dean\n  \n*If you are unable to attend and would like to speak with Caroline or Julie please don’t hesitate to reach out.\n2018 Women’s Retreat \n 
URL:https://www.christchurchsummit.org/event/a-circle-of-healing/
LOCATION:Lile Hall\, 561 Springfield Ave\, Summit\, NJ\, 07901\, United States
ATTACH;FMTTYPE=image/jpeg:https://www.christchurchsummit.org/wp-content/uploads/17264916_1474461082586238_9133515547944099175_n.jpg
ORGANIZER;CN="Rev. Caroline Dean":MAILTO:cdean@ccsnj.org
END:VEVENT
BEGIN:VEVENT
DTSTART;VALUE=DATE:20180928
DTEND;VALUE=DATE:20181001
DTSTAMP:20260421T150419
CREATED:20180817T183241Z
LAST-MODIFIED:20180827T135842Z
UID:25978-1538092800-1538351999@www.christchurchsummit.org
SUMMARY:All Church Retreat 2018
DESCRIPTION:  \n \nSeptember 28th-30th: All Church Retreat in Ocean Grove\, NJ\nSign up today to reserve your spot by emailing Rev. Julie revjy@ccsnj.org\nHOW MUCH: $200 per adult\, $25 per kid : Saturday Only: $100 per adult\, $25 per kid* \nChecks to made out to Christ Church with “All Church Retreat” in the memo line \nMail to Rev. Julie Yarborough (561 Springfield Ave. Summit\, NJ 07901) \nWHEN: We gather Friday night after dinner and leave Sunday late morning \nWHERE: Grove Hall\, Ocean Grove NJ two blocks from the Ocean \nWHO: All are invited! Friends are welcome. \nJoin us for creative & interactive spiritual retreat for all ages. \n*Let us know if cost is prohibitive there are scholarships available \n 
URL:https://www.christchurchsummit.org/event/all-church-retreat-2018/
LOCATION:NJ\, United States
ATTACH;FMTTYPE=image/jpeg:https://www.christchurchsummit.org/wp-content/uploads/All-Church-Retreat-2018-hi-res.jpg
ORGANIZER;CN="Rev. Julie Yarborough":MAILTO:revjy@ccsnj.org
END:VEVENT
BEGIN:VEVENT
DTSTART;TZID=UTC:20180923T130000
DTEND;TZID=UTC:20180923T150000
DTSTAMP:20260421T150419
CREATED:20180817T182831Z
LAST-MODIFIED:20180821T182336Z
UID:25975-1537707600-1537714800@www.christchurchsummit.org
SUMMARY:Family Service Trip to NJ FoodBank
DESCRIPTION:September 23: from 1:00-3:00 pm – Family Service Trip to the NJ\nFood Bank for children ages 6-11 and their families.\nEmail Julie Yarborough to reserve your spot today! revjy@ccsnj.org
URL:https://www.christchurchsummit.org/event/family-service-trip-to-nj-foodbank/
LOCATION:NJ
ATTACH;FMTTYPE=image/jpeg:https://www.christchurchsummit.org/wp-content/uploads/Family-Service-Trip.jpg
END:VEVENT
BEGIN:VEVENT
DTSTART;TZID=UTC:20180923T103000
DTEND;TZID=UTC:20180923T123000
DTSTAMP:20260421T150419
CREATED:20180817T181139Z
LAST-MODIFIED:20180821T183152Z
UID:25963-1537698600-1537705800@www.christchurchsummit.org
SUMMARY:Rob Bell's "Love Wins" Discussion
DESCRIPTION:  \nLove Wins\nWe’re spending the month of August exploring some of the hardest topics in the Christian faith–sin\, brokenness\, redemption\, Heaven\, and Hell.\nAre you ready to dig even deeper into these questions? Join us after church on September 23rd for a discussion of Rob Bell’s bestselling “Love Wins”\, where he considers a controversial question. Would a loving God condemn people to eternal torment?\nCopies available on table outside church office.
URL:https://www.christchurchsummit.org/event/rob-bells-love-wins-discussion/
LOCATION:Christ Church BH\, 561 Springfield Avenue\, Summit\, NJ\, 07901\, United States
ATTACH;FMTTYPE=image/jpeg:https://www.christchurchsummit.org/wp-content/uploads/Love-Wins-9.23.18-hi-res.jpg
END:VEVENT
BEGIN:VEVENT
DTSTART;TZID=UTC:20180916T103000
DTEND;TZID=UTC:20180916T233000
DTSTAMP:20260421T150419
CREATED:20180817T183738Z
LAST-MODIFIED:20180828T145416Z
UID:25983-1537093800-1537140600@www.christchurchsummit.org
SUMMARY:Bags to Benches Recycling Challenge
DESCRIPTION:Bags to Benches Recycling Challenge:\nThe Summit Area GreenFaith Circle is partnering with Trex to collect and remove 500lbs of plastic bags and film packaging. See the poster in the Atrium for examples of film packaging. Starting September 16th you can drop off your plastic at Christ Church. Plastic must be clean and dry with no food residue.  Once we achieve the goal Trex will reward us with a bench made from recycled plastic.
URL:https://www.christchurchsummit.org/event/bags-to-benches-recycling-challenge/
LOCATION:NJ
ATTACH;FMTTYPE=image/jpeg:https://www.christchurchsummit.org/wp-content/uploads/16152569424_6a5fe754c2.jpg
ORGANIZER;CN="GreenFaith Committee":MAILTO:Marian.Glenn@shu.edu
END:VEVENT
BEGIN:VEVENT
DTSTART;TZID=UTC:20180909T000000
DTEND;TZID=UTC:20180909T000000
DTSTAMP:20260421T150419
CREATED:20180821T182706Z
LAST-MODIFIED:20180821T185701Z
UID:26023-1536451200-1536451200@www.christchurchsummit.org
SUMMARY:Worship Schedule
DESCRIPTION:On September 9th we return to two worship services! \n\n\nDuring the school year\, we have a family-friendly worship with a variety of music at 9:30 AM. We also have an 11:15 AM worship service\, featuring meditative jazz piano and communion.\nNursery care is provided during both services.  Our children’s Sunday School is available during the first service.
URL:https://www.christchurchsummit.org/event/worship-schedule/
LOCATION:NJ
ATTACH;FMTTYPE=image/jpeg:https://www.christchurchsummit.org/wp-content/uploads/537010_681111335254554_885693012_n.jpg
END:VEVENT
BEGIN:VEVENT
DTSTART;TZID=UTC:20180906T173000
DTEND;TZID=UTC:20180906T183000
DTSTAMP:20260421T150419
CREATED:20180817T182233Z
LAST-MODIFIED:20180821T190044Z
UID:25972-1536255000-1536258600@www.christchurchsummit.org
SUMMARY:Back to School Blessing
DESCRIPTION:Back to School Blessing\nAn inter-generational Back to School Blessing will be held on Thursday\, September 6\, from 5:30-6:30pm in Lile Hall. Please join us for pizza\, salad & a short service of blessing for all who are going back to school this fall! Please RSVP to Rev. Julie revjy@ccsnj.org by that afternoon so that she can order enough pizza!
URL:https://www.christchurchsummit.org/event/back-to-school-blessing/
LOCATION:NJ
ATTACH;FMTTYPE=image/jpeg:https://www.christchurchsummit.org/wp-content/uploads/Back-to-School-Blessing-1.jpg
END:VEVENT
BEGIN:VEVENT
DTSTART;VALUE=DATE:20180902
DTEND;VALUE=DATE:20180910
DTSTAMP:20260421T150419
CREATED:20180817T181941Z
LAST-MODIFIED:20180821T192135Z
UID:25968-1535846400-1536537599@www.christchurchsummit.org
SUMMARY:Family Promise-Hospitality Week
DESCRIPTION:Family Promise – Hospitality Week!\nOur Family Promise guests will be here September 2-9. Guests need us to provide simple yet yummy dinners each night they’re here. Unsure as to whether this good deed is for you? Email Yesenia Reichart at yreichart@gmail.com for more details.\nPlease sign up via Sign Up Genius http://www.signups.ccsnj.org/ You are also welcome to sign up for set up\, break down\, and evening (7:30-9:30 PM) shifts. On behalf of the Hospitality Group and our guests\, thank you!!\nNew Volunteers are most welcome!
URL:https://www.christchurchsummit.org/event/family-promise-hospitality-week/
LOCATION:Christ Church\, 561 Springfield Avenue\, Summit\, NJ\, 07901\, United States
ATTACH;FMTTYPE=image/jpeg:https://www.christchurchsummit.org/wp-content/uploads/Family-Promise-hi-res.jpg
END:VEVENT
BEGIN:VEVENT
DTSTART;TZID=UTC:20180815T180000
DTEND;TZID=UTC:20180815T210000
DTSTAMP:20260421T150419
CREATED:20180815T180224Z
LAST-MODIFIED:20180815T180415Z
UID:25949-1534356000-1534366800@www.christchurchsummit.org
SUMMARY:All Church Retreat
DESCRIPTION:We welcome everyone to our upcoming All Church retreat on the September 28-30.
URL:https://www.christchurchsummit.org/event/all-church-retreat/
LOCATION:Town Hall
ATTACH;FMTTYPE=image/jpeg:https://www.christchurchsummit.org/wp-content/uploads/All-Church-Retreat-2013-1.jpg
END:VEVENT
END:VCALENDAR