BEGIN:VCALENDAR
VERSION:2.0
PRODID:-//Christ Church Summit - ECPv6.15.18//NONSGML v1.0//EN
CALSCALE:GREGORIAN
METHOD:PUBLISH
X-ORIGINAL-URL:https://www.christchurchsummit.org
X-WR-CALDESC:Events for Christ Church Summit
REFRESH-INTERVAL;VALUE=DURATION:PT1H
X-Robots-Tag:noindex
X-PUBLISHED-TTL:PT1H
BEGIN:VTIMEZONE
TZID:UTC
BEGIN:STANDARD
TZOFFSETFROM:+0000
TZOFFSETTO:+0000
TZNAME:UTC
DTSTART:20180101T000000
END:STANDARD
END:VTIMEZONE
BEGIN:VEVENT
DTSTART;TZID=UTC:20200214T173000
DTEND;TZID=UTC:20200214T203000
DTSTAMP:20260421T094428
CREATED:20200203T160642Z
LAST-MODIFIED:20200204T153533Z
UID:26729-1581701400-1581712200@www.christchurchsummit.org
SUMMARY:Bridges Run
DESCRIPTION:Bridges Run\nWe are gathering 200 lunches for our Bridges run on Friday\, February 14th.  If you are available to help make 10-15 lunches or more email Ashley at Ashley@ccsnj.org .  Drop off the lunches on Friday February 14th in the kitchen & refrigerator in Barnwell Hall from 10 am -4:30 pm.  Early drop off available on Thursday from 10am-4:30pm.  Thanking everyone in advance!
URL:https://www.christchurchsummit.org/event/bridges-run-3/
ATTACH;FMTTYPE=image/jpeg:https://www.christchurchsummit.org/wp-content/uploads/Bridges-Run-2.14.2020.jpg
ORGANIZER;CN="Ashley Kile":MAILTO:ashley@ccsnj.org
END:VEVENT
BEGIN:VEVENT
DTSTART;TZID=UTC:20200209T123000
DTEND;TZID=UTC:20200209T160000
DTSTAMP:20260421T094428
CREATED:20200117T184255Z
LAST-MODIFIED:20200124T181520Z
UID:26705-1581251400-1581264000@www.christchurchsummit.org
SUMMARY:Frederick Douglass on Race: A Soul’s Evolution
DESCRIPTION:SAVE THE DATE February 9th\nJoin us on February 9th at 1:00 pm as renowned actor Fred Morsell brings “Frederick Douglass on Race: A Soul’s Evolution” to Barnwell Hall.  A great Sunday afternoon theatre experience.  Doors open at 12:30 pm and this event is free to the public.
URL:https://www.christchurchsummit.org/event/frederick-douglass-on-race-a-souls-evolution/
ATTACH;FMTTYPE=image/png:https://www.christchurchsummit.org/wp-content/uploads/Frederick-Douglass.png
END:VEVENT
BEGIN:VEVENT
DTSTART;TZID=UTC:20200205T120000
DTEND;TZID=UTC:20200205T140000
DTSTAMP:20260421T094428
CREATED:20200103T162210Z
LAST-MODIFIED:20200128T183806Z
UID:26698-1580904000-1580911200@www.christchurchsummit.org
SUMMARY:The Gathering Place
DESCRIPTION:  \nThe Gathering Place – A Memory Cafe Wednesday\, February 5th.\nMembers and friends with memory loss are welcome to attend The Gathering Place with their care partners on the first\, Wednesday of every month. We meet in Lile Hall from 12 to 2:00 pm with a light nutritious lunch\, music\, exercises\, storytelling\, art\, support\, and socialization. Care partners can talk with other care partners around the table.\n\nSuggested donation $5. RSVP to Brenda Dodds at brenda@ccsnj.org
URL:https://www.christchurchsummit.org/event/the-gathering-place-3/
ATTACH;FMTTYPE=image/jpeg:https://www.christchurchsummit.org/wp-content/uploads/Gathering-Place-1.jpg
END:VEVENT
BEGIN:VEVENT
DTSTART;TZID=UTC:20200125T180000
DTEND;TZID=UTC:20200125T220000
DTSTAMP:20260421T094428
CREATED:20191030T213325Z
LAST-MODIFIED:20191030T213325Z
UID:26633-1579975200-1579989600@www.christchurchsummit.org
SUMMARY:Progressive Dinner
DESCRIPTION:SAVE THE DATE!\n  \nMARK YOUR CALENDAR FOR JANUARY 25\, 2020! Come join Christ Church for the Progressive Dinner\, our biggest social event of the year! Deanna Smeltz & Jamil Nazarali are graciously hosting cocktails. After cocktails\, we will break out to host homes for great conversation\, a lovely dinner and dessert. It’s a fun way to meet the wonderful people in our congregation!\n\n  \nSEEKING PROGRESSIVE  DINNER HOSTS. Are you available on Saturday\, January 25\, 2020? Do you live in Summit or the surrounding towns? Do you like to entertain but are daunted by the thought of inviting guests\, planning and preparing a dinner party menu? If so\, let Church Life do the work for you.  We’ll send out the invites\, assign guests\, provide directions and take care of the food and drink.  Here’s all you will need to do! Get out the china and set the table for 8-12 (ideally 10). Pick up the prepared dinner and wine at 4 pm.  Follow directions for reheating the food. Get dressed in your party clothes. Attend the cocktail party. Serve dinner at your house to your guests.   Interested? Contact Carol Angle at carolangle@aol.com or 908-918-1005.
URL:https://www.christchurchsummit.org/event/progressive-dinner/
ORGANIZER;CN="Carol Angle":MAILTO:carolangle@aol.com
END:VEVENT
BEGIN:VEVENT
DTSTART;TZID=UTC:20200115T190000
DTEND;TZID=UTC:20200115T220000
DTSTAMP:20260421T094428
CREATED:20200103T161050Z
LAST-MODIFIED:20200103T161050Z
UID:26693-1579114800-1579125600@www.christchurchsummit.org
SUMMARY:Man on Fire Screening
DESCRIPTION:Man of Fire\nThe Race Equity Committee of Christ Church in partnership with the Film Society of Summit and the Summit Interfaith Anti-Racism Committee will kick off the Dr. MLK Jr. holiday by hosting a screening of “Man on Fire” with a Q&A by the producer\, Dr. James Sanchez on what is Dr. King’s birthday\, January 15 at 7 pm in Barnwell Hall.  Tickets are $8 available on the FSS website https://www.summitfilmsociety.com/and $12 at the door.
URL:https://www.christchurchsummit.org/event/man-on-fire-screening/
ATTACH;FMTTYPE=image/png:https://www.christchurchsummit.org/wp-content/uploads/MOF_web-announcement.png
END:VEVENT
BEGIN:VEVENT
DTSTART;TZID=UTC:20191216T160000
DTEND;TZID=UTC:20191216T200000
DTSTAMP:20260421T094428
CREATED:20191212T175547Z
LAST-MODIFIED:20191212T175547Z
UID:26686-1576512000-1576526400@www.christchurchsummit.org
SUMMARY:Bridges Run Confirmation Class
DESCRIPTION:  \nBridges Lunches Drop Off in Barnwell Hall\nWe are gathering 200 lunches for our Confirmation Bridges run on Monday\, December 16th.  If you are available to help make 10-15 lunches or more email Ashley at Ashley@ccsnj.org\nDrop off the lunches on Sunday (or Monday before 3 pm) in the kitchen in Barnwell Hall.
URL:https://www.christchurchsummit.org/event/bridges-run-confirmation-class/
ATTACH;FMTTYPE=image/jpeg:https://www.christchurchsummit.org/wp-content/uploads/Bridges-Run-12.16.19.jpg
ORGANIZER;CN="Ashley Kile":MAILTO:ashley@ccsnj.org
END:VEVENT
BEGIN:VEVENT
DTSTART;VALUE=DATE:20191215
DTEND;VALUE=DATE:20200106
DTSTAMP:20260421T094428
CREATED:20191212T191955Z
LAST-MODIFIED:20191212T191955Z
UID:26689-1576368000-1578268799@www.christchurchsummit.org
SUMMARY:Holiday Schedule
DESCRIPTION:Holiday Schedule\n  \nSunday December 15th: special Christmas music with Chancel Choir and guest musicians 9:30 and 11:15 services\n\nSunday December 22nd: Two services 9:30 am and 11:15 am\, music led by youth/young adult choir.\nTuesday\, December 24th Christmas Eve:\n3:30 PM – Rehearsal for Pageant – all children welcome!\n5:00 PM – Children’s Pageant & Family Service\n10:30 PM – Service of Lessons and Carols\n\nSunday December 29th:  One service at 9:30 am\n\nJanuary 5th: One service for New Year Bonfire Ritual
URL:https://www.christchurchsummit.org/event/holiday-schedule/
ATTACH;FMTTYPE=image/jpeg:https://www.christchurchsummit.org/wp-content/uploads/Christmas-Eve-Services.jpg
END:VEVENT
BEGIN:VEVENT
DTSTART;TZID=UTC:20191208T103000
DTEND;TZID=UTC:20191208T133000
DTSTAMP:20260421T094428
CREATED:20191018T171041Z
LAST-MODIFIED:20191031T151500Z
UID:26628-1575801000-1575811800@www.christchurchsummit.org
SUMMARY:Advent Workshop
DESCRIPTION:  \nAdvent Workshop\nPlease join us for the Advent Workshop on Sunday\, December 8th right after the first service.  (We will not have an 11:15 Worship service that day.)\nThis year we will do some service projects to support area non-profits\, spend quality time together\, enjoy lunch and Christmas caroling. Suggested donation of $5 per person or $20 per family.
URL:https://www.christchurchsummit.org/event/advent-workshop-2/
LOCATION:Christ Church\, 561 Springfield Avenue\, Summit\, NJ\, 07901\, United States
ATTACH;FMTTYPE=image/jpeg:https://www.christchurchsummit.org/wp-content/uploads/Advent-Workshop-blue.jpg
END:VEVENT
BEGIN:VEVENT
DTSTART;TZID=UTC:20191117T150000
DTEND;TZID=UTC:20191117T170000
DTSTAMP:20260421T094428
CREATED:20191105T173124Z
LAST-MODIFIED:20191105T180536Z
UID:26645-1574002800-1574010000@www.christchurchsummit.org
SUMMARY:Autumn Leaves\, Songs of the Season
DESCRIPTION:  \nAutumn Leaves\, Songs of the Season\nLooking for a beautiful way to celebrate the Fall season\, then please join us on Sunday\, November 17th at 7:30 PM in Lile Hall for \n“Autumn Leaves\, Songs of the Season.” Enjoy the many talented members and friends of Christ Church.  Desserts and refreshments will be served.\n\nThe suggested donation for this event is $20.  All friends welcome!\nAll proceeds will benefit the Organ Restoration Fund.
URL:https://www.christchurchsummit.org/event/autumn-leaves-songs-of-the-season/
ATTACH;FMTTYPE=image/png:https://www.christchurchsummit.org/wp-content/uploads/Autumn-Leaves-11.17.19.png
ORGANIZER;CN="Nancy Mion":MAILTO:mion.nancy@gmail.com
END:VEVENT
BEGIN:VEVENT
DTSTART;TZID=UTC:20191027T150000
DTEND;TZID=UTC:20191027T170000
DTSTAMP:20260421T094428
CREATED:20191008T175824Z
LAST-MODIFIED:20191008T175824Z
UID:26618-1572188400-1572195600@www.christchurchsummit.org
SUMMARY:Sunday Specials - Halloween Bingo!
DESCRIPTION:Sunday Specials – Halloween Bingo!\nPlease join us on Sunday\, October 27\, from 3-5 PM for a Bingo party for intellectual or developmental disabilities.   There will be treats & prizes! Costumes are encouraged!  To RSVP or if you can help during or before the event (buy prizes\, bake\, decorate etc.)\, please contact Nancy Davies at nancyldavies@msn.com or 908-656-7102 by October 16th.
URL:https://www.christchurchsummit.org/event/sunday-specials-halloween-bingo/
ATTACH;FMTTYPE=image/jpeg:https://www.christchurchsummit.org/wp-content/uploads/Sunday-Specials-Halloween.jpg
END:VEVENT
BEGIN:VEVENT
DTSTART;TZID=UTC:20191027T104500
DTEND;TZID=UTC:20191027T120000
DTSTAMP:20260421T094428
CREATED:20191008T181622Z
LAST-MODIFIED:20191008T181622Z
UID:26621-1572173100-1572177600@www.christchurchsummit.org
SUMMARY:Age-ing and Sage-ing October 27th
DESCRIPTION:Age-ing and Sage-ing\nCurious about what goes on in the end stages of your life?  What are the challenges and opportunities?  What are the “tasks” that come with the territory? What does brain research tell us?  Join us Sunday\, October 27th\, 10:45 am to 12:00 pm in Barnwell.\n\nFor more information\, please contact Leigh Rosoff (rleigh95@aol.com)
URL:https://www.christchurchsummit.org/event/age-ing-and-sage-ing-october-27th/
END:VEVENT
BEGIN:VEVENT
DTSTART;TZID=UTC:20191027T093000
DTEND;TZID=UTC:20191027T100000
DTSTAMP:20260421T094428
CREATED:20191008T175146Z
LAST-MODIFIED:20191008T175146Z
UID:26613-1572168600-1572170400@www.christchurchsummit.org
SUMMARY:New Member Sunday October 27\, 2019
DESCRIPTION:New Member Sunday! Our next New Member Sunday is\, October 27 at the 9:30 am service.   If you are interested in joining Christ Church\,  please email Jeff & Gretchen Shook at shookjshook@gmail.com gretko2000@yahoo.com for more information.
URL:https://www.christchurchsummit.org/event/new-member-sunday-october-27-2019/
ATTACH;FMTTYPE=image/jpeg:https://www.christchurchsummit.org/wp-content/uploads/New-Member-Sunday-Hi-Res.jpg
END:VEVENT
BEGIN:VEVENT
DTSTART;TZID=UTC:20191023T180000
DTEND;TZID=UTC:20191023T200000
DTSTAMP:20260421T094428
CREATED:20191008T174623Z
LAST-MODIFIED:20191018T170150Z
UID:26609-1571853600-1571860800@www.christchurchsummit.org
SUMMARY:CCAC Interview and Resume Building Workshop
DESCRIPTION:Christ Church Advancement Committee\n Join us for an Interview and Resume Building workshop on Wednesday October 23rd from 6:00-8:00 pm in Barnwell Hall.  A free-will donation of $10 is encouraged. Of course\, if money is an issue please let us know. This workshop is open to the public so feel free to invite friends & family. The mission of the Christ Church Advancement Committee (CCAC) is to strengthen our relationships/networks\, assist with employment issues\, and strengthen participation in Christ Church’s committees. You can register by emailing Brenda Dodds at brenda@ccsnj.org
URL:https://www.christchurchsummit.org/event/ccac-interview-and-resume-building-workshop/
ATTACH;FMTTYPE=image/jpeg:https://www.christchurchsummit.org/wp-content/uploads/Resume-Building.jpg
END:VEVENT
BEGIN:VEVENT
DTSTART;TZID=UTC:20191020T093000
DTEND;TZID=UTC:20191020T103000
DTSTAMP:20260421T094428
CREATED:20191008T175352Z
LAST-MODIFIED:20191008T175352Z
UID:26616-1571563800-1571567400@www.christchurchsummit.org
SUMMARY:Climate Change Sunday
DESCRIPTION:Climate Change Sunday\nJoin us on Sunday\, October 20th with guest preacher Rev. Fletcher Harper\, Executive Director of GreenFaith\, an international\, multi-faith environmental organization based in New Jersey.  He will preach on the sacredness of the Earth and all people\, the emergency that climate change represents\, and three pathways to power for religious communities to respond. During coffee hour Christ Church Green Team will continue the discussion by focusing on the significance of last summer’s UCC synod resolutions supporting the Green New Deal and the Energy Innovation and Carbon Dividend Act\, and how these legislative proposals relate to our faith community.
URL:https://www.christchurchsummit.org/event/climate-change-sunday/
END:VEVENT
BEGIN:VEVENT
DTSTART;TZID=UTC:20191005T090000
DTEND;TZID=UTC:20191005T120000
DTSTAMP:20260421T094428
CREATED:20190813T152453Z
LAST-MODIFIED:20190813T152453Z
UID:26559-1570266000-1570276800@www.christchurchsummit.org
SUMMARY:Nicaragua Shipment October 5\, 2019
DESCRIPTION:Nicaragua Shipment:\nIt’s already time to donate used\, but working and clean household items to the next PeaceWorks shipment of humanitarian aid to Nicaragua! Donation deadline is October 5th. You may bring donations at any time to the Nicaragua room in the church basement.  A list of items needed can be found on the bulletin board. Feel free to take a copy.  Email any questions to Marilyn Devroye mptd@msn.com or Dan Ocone ocone9802@gmail.com (this is Dan’s NEW and preferred email).
URL:https://www.christchurchsummit.org/event/nicaragua-shipment-october-5-2019/
END:VEVENT
BEGIN:VEVENT
DTSTART;TZID=UTC:20190927T170000
DTEND;TZID=UTC:20190929T170000
DTSTAMP:20260421T094428
CREATED:20190702T191129Z
LAST-MODIFIED:20190808T144119Z
UID:26518-1569603600-1569776400@www.christchurchsummit.org
SUMMARY:All Church Retreat 2019
DESCRIPTION:September 27th-29th: All Church Retreat in Ocean Grove\, NJ\nSign up today to reserve your spot by emailing Rev. Julie revjy@ccsnj.org\nHOW MUCH: $200 per adult\, $25 per kid : Saturday Only: $100 per adult\, $25 per kid* \nChecks to made out to Christ Church with “All Church Retreat” in the memo line \nMail to Rev. Julie Yarborough (561 Springfield Ave. Summit\, NJ 07901) \nWHEN: We gather Friday night after dinner and leave Sunday late morning \nWHERE: Grove Hall\, Ocean Grove NJ two blocks from the Ocean \nWHO: All are invited! Friends are welcome. \nJoin us for creative & interactive spiritual retreat for all ages. \n*Let us know if cost is prohibitive – there are scholarships available.
URL:https://www.christchurchsummit.org/event/all-church-retreat-2019/
ATTACH;FMTTYPE=image/jpeg:https://www.christchurchsummit.org/wp-content/uploads/all-church-retreat-9.27-29-1.jpg
ORGANIZER;CN="Rev. Julie Yarborough":MAILTO:revjy@ccsnj.org
END:VEVENT
BEGIN:VEVENT
DTSTART;TZID=UTC:20190914T170000
DTEND;TZID=UTC:20190914T180000
DTSTAMP:20260421T094428
CREATED:20190118T163306Z
LAST-MODIFIED:20190910T151802Z
UID:26322-1568480400-1568484000@www.christchurchsummit.org
SUMMARY:SoulSpace Saturday 5 pm Worship Service
DESCRIPTION:  \nInvite a friend to our Saturday night worship service! \nFirst service of soulspace will be Saturday\, September 14th at 5pm in Barnwell Hall.\nWe will kick off this year with the theme of “Draw The Circle Wide”. Join us for this fun\, musical\, interactive service\, and bring a friend or two! All are welcome.\nWe also ask that you bring a healthy snack to share. See you there!
URL:https://www.christchurchsummit.org/event/soulspace-saturday-5-pm-worship-service/
ATTACH;FMTTYPE=image/jpeg:https://www.christchurchsummit.org/wp-content/uploads/soulspace-9.14.19.jpg
ORGANIZER;CN="Rev. Julie Yarborough":MAILTO:revjy@ccsnj.org
END:VEVENT
BEGIN:VEVENT
DTSTART;TZID=UTC:20190903T173000
DTEND;TZID=UTC:20190903T183000
DTSTAMP:20260421T094428
CREATED:20190812T172455Z
LAST-MODIFIED:20190813T150717Z
UID:26571-1567531800-1567535400@www.christchurchsummit.org
SUMMARY:Back to School Blessing
DESCRIPTION:Back to School Blessing!\nAn intergenerational Back to School Blessing will be held on Tuesday\, September 3\, from 5:30-6:30 pm in Lile Hall. Please join us as we pray for all students\, teachers and administrators returning to school.  Pizza will be served first and will be followed by a short service.  All are welcome to attend.  Please RSVP through the link below.\nhttps://www.signupgenius.com/go/805084EA8A729A1F58-back
URL:https://www.christchurchsummit.org/event/back-to-school-blessing-2/
ATTACH;FMTTYPE=image/jpeg:https://www.christchurchsummit.org/wp-content/uploads/Back-to-School-Blessing-2019-hi-res.jpeg
ORGANIZER;CN="Ashley Kile":MAILTO:ashley@ccsnj.org
END:VEVENT
BEGIN:VEVENT
DTSTART;TZID=UTC:20190825T170000
DTEND;TZID=UTC:20190901T070000
DTSTAMP:20260421T094428
CREATED:20190708T152201Z
LAST-MODIFIED:20190812T185707Z
UID:26538-1566752400-1567321200@www.christchurchsummit.org
SUMMARY:Family Promise Hospitality Week - Aug 25- Sept 1
DESCRIPTION:  \nFamily Promise – Hospitality Week!\nOur Family Promise guests are here August 25th – September 1st. Guests need us to provide simple yet yummy dinners each night they’re here. Unsure as to whether this good deed is for you? Email Yesenia Reichart at yreichart@gmail.com for more details.\nPlease sign up via Sign Up Genius  http://www.signups.ccsnj.org/ You are also welcome to sign up for set up\, break down\, and evening (7:30-9:30 PM) shifts. On behalf of the Hospitality Group and our guests\, thank you!!\nNew Volunteers are most welcome!
URL:https://www.christchurchsummit.org/event/family-promise-hospitality-week-aug-25-sept-1/
ATTACH;FMTTYPE=image/jpeg:https://www.christchurchsummit.org/wp-content/uploads/Family-Promise-hi-res.jpg
END:VEVENT
BEGIN:VEVENT
DTSTART;TZID=UTC:20190609T093000
DTEND;TZID=UTC:20190609T103000
DTSTAMP:20260421T094428
CREATED:20190221T191940Z
LAST-MODIFIED:20190312T160707Z
UID:26372-1560072600-1560076200@www.christchurchsummit.org
SUMMARY:Youth Sunday 2019
DESCRIPTION:  \nOur youth will lead us in worship in Barnwell Hall.  It is a creative\, interactive & joyous worship for all ages!
URL:https://www.christchurchsummit.org/event/youth-sunday-2019/
ATTACH;FMTTYPE=image/jpeg:https://www.christchurchsummit.org/wp-content/uploads/Youth-Sunday-6.9.19-hi-res.jpg
END:VEVENT
BEGIN:VEVENT
DTSTART;TZID=UTC:20190519T093000
DTEND;TZID=UTC:20190519T103000
DTSTAMP:20260421T094428
CREATED:20190408T170523Z
LAST-MODIFIED:20190408T171313Z
UID:26448-1558258200-1558261800@www.christchurchsummit.org
SUMMARY:New Member Sunday 5/19/19
DESCRIPTION:  \nNew Member Sunday!   Our next New Member Sunday is\, May 19th at the 9:30 am service.   If you are interested in joining Christ Church\, please email Margaret Haughey at haughey5@verizon.net or call (973) 449-1146 for more information.
URL:https://www.christchurchsummit.org/event/new-member-sunday-5-19-19/
ATTACH;FMTTYPE=image/jpeg:https://www.christchurchsummit.org/wp-content/uploads/New-Member-Sunday-Hi-Res.jpg
END:VEVENT
BEGIN:VEVENT
DTSTART;TZID=UTC:20190511T193000
DTEND;TZID=UTC:20190511T210000
DTSTAMP:20260421T094428
CREATED:20190424T160419Z
LAST-MODIFIED:20190424T160419Z
UID:26456-1557603000-1557608400@www.christchurchsummit.org
SUMMARY:
DESCRIPTION:  \n“The Earth Our Mother\, A Springtime Cabaret” Looking for a beautiful way to celebrate mothers\, and our life-giving planet\, then please join us on Saturday\, May 11th at 7:30PM in Lile Hall for “The Earth Our Mother\, A Springtime Cabaret.” Enjoy the many talented members and friends of Christ Church\, as we present a program of music and poetry celebrating earth and nature\, life and mothers.\nDesserts and refreshments will be served.\n\nThe suggested donation for this event is $20.  And all proceeds will be given to The Summit Area GreenFaith Circle\, a local interfaith consortium that educates and advocates for Environmental Stewardship.
URL:https://www.christchurchsummit.org/event/26456/
ATTACH;FMTTYPE=image/png:https://www.christchurchsummit.org/wp-content/uploads/Springtime-Cabaret-2019.png
ORGANIZER;CN="Nancy Mion":MAILTO:mion.nancy@gmail.com
END:VEVENT
BEGIN:VEVENT
DTSTART;TZID=UTC:20190505T093000
DTEND;TZID=UTC:20190505T103000
DTSTAMP:20260421T094428
CREATED:20190221T180207Z
LAST-MODIFIED:20190221T191740Z
UID:26367-1557048600-1557052200@www.christchurchsummit.org
SUMMARY:Confirmation 2019
DESCRIPTION:  \nJoin us for worship at 9:30 am to celebrate and welcome a new class of confirmands!
URL:https://www.christchurchsummit.org/event/confirmation-2019/
ATTACH;FMTTYPE=image/jpeg:https://www.christchurchsummit.org/wp-content/uploads/Confirmation-5.5.19.jpg
END:VEVENT
BEGIN:VEVENT
DTSTART;TZID=UTC:20190426T173000
DTEND;TZID=UTC:20190426T220000
DTSTAMP:20260421T094428
CREATED:20190424T161535Z
LAST-MODIFIED:20190424T161535Z
UID:26459-1556299800-1556316000@www.christchurchsummit.org
SUMMARY:Bridges Run 4/26/19
DESCRIPTION:Bridges Lunches Drop Off in Barnwell Hall\nWe are gathering 200 lunches for our Bridges run\nIf you are available to help make 10-15 lunches or more please email Caroline at cdean@ccsnj.org\nDrop off the lunches on Friday April 26th in the kitchen & refrigerator in Barnwell Hall from 10 am -5 pm.  Early drop off available on Thursday from 10am-5pm\n\n\n\n\nSign up today!\nBridges Run Volunteers: Friday\, April 26th\, 2019 \n8th-12th grade volunteers & chaperones are invited to go on our\nBridges Run from 5:30pm-10pm.  Friends are always welcome.\nBridges runs are amazing & life giving opportunities for all involved!\nEmail  Caroline at cdean@ccsnj.org\nHere is the permission form for adults\nhttps://docs.google.com/forms/d/1mHAaShrbguBhehIWEh6eFrEJpvrOUGnTav5r3Pm_uC4/viewform?edit_requested=true\nand students (below)\nhttps://docs.google.com/forms/d/1JunuKM0uTQ5-mUy0oKBkeDBGyRylK–7YgWdINrM58U/viewform?edit_requested=true\n\n\n\n\nContents of a fresh brown bag lunch\n\n\nSandwich: preferably made with 100% white\, whole wheat or soft\, whole wheat with low     \n\n\n         sodium deli meat.  Please\, no peanut butter and jelly sandwiches.  Please do not put mayo\,\n         mustard\, lettuce or tomato on the sandwich.  If possible\, include mayo or mustard packets\n         in the bag.\n\n\nFruit: grapes\, clementines\, bananas\, pears or other soft fruit\n\n\nDairy Item: mozzarella\, cheddar or other cheese stick\, 4 or 6 oz yogurt with spoon or 2\n\n\n          squeezable yogurts\n\n\nChewy granola bar (reduced sugar if possible) or Nutrigrain-type fruit & cereal bar\n\n\nDrink: Water (6 or 8 oz. bottle)\n\n\n\nGuidelines for making fresh brown bag lunches\n\n\nPlease do NOT put sandwiches in the brown bag lunches– Keep separate.\n\n\nKeep sandwiches refrigerated until delivery.\n\n\nWash hands\n\n\nInclude mayo and mustard packets\, if possible.\n\n\nMeat only (no condiments\, lettuce or tomatoes)\n\n\nWrap sandwiches in zip lock bags.\n\n\nMany of our friends have dental problems; please purchase soft fruit (no apples\, please.)\n\n\nAlthough not as healthy\, fruit cups are an alternative to fresh fruit – please remember spoons and napkins.\n\n\n  \nThank you for your support!
URL:https://www.christchurchsummit.org/event/bridges-run-4-26-19/
ATTACH;FMTTYPE=image/jpeg:https://www.christchurchsummit.org/wp-content/uploads/bridges-2018-july.jpg
ORGANIZER;CN="Rev. Caroline Dean":MAILTO:cdean@ccsnj.org
END:VEVENT
BEGIN:VEVENT
DTSTART;TZID=UTC:20190421T093000
DTEND;TZID=UTC:20190421T103000
DTSTAMP:20260421T094428
CREATED:20190221T175352Z
LAST-MODIFIED:20190221T175352Z
UID:26362-1555839000-1555842600@www.christchurchsummit.org
SUMMARY:Easter 2019
DESCRIPTION:  \nEaster Sunday\, April 21st there will be nursery care at both services but no Sunday school.  There will be two identical services (9:30 and 11:15) with Easter Egg Hunts in-between the services for children ages 2-5th grade.\n\nEaster Egg Hunt: Volunteers needed. Please contact Julie Yarborough at revjy@ccsnj.org if you are interested in helping hide eggs\, assist children with the hunt and hand out prizes on Easter Sunday.\n 
URL:https://www.christchurchsummit.org/event/easter-2019/
ATTACH;FMTTYPE=image/jpeg:https://www.christchurchsummit.org/wp-content/uploads/Easter-4.21.19.jpg
END:VEVENT
BEGIN:VEVENT
DTSTART;TZID=UTC:20190418T193000
DTEND;TZID=UTC:20190418T203000
DTSTAMP:20260421T094428
CREATED:20190314T181944Z
LAST-MODIFIED:20190314T181944Z
UID:26407-1555615800-1555619400@www.christchurchsummit.org
SUMMARY:Maundy Thursday
DESCRIPTION:  \nMaundy Thursday: Join us on April 18th at 7:30 pm for our Tenebrae Service Maundy Thursday.
URL:https://www.christchurchsummit.org/event/maundy-thursday/
ATTACH;FMTTYPE=image/jpeg:https://www.christchurchsummit.org/wp-content/uploads/Maundy-Thursday-4.18.19-hi-res.jpg
END:VEVENT
BEGIN:VEVENT
DTSTART;TZID=UTC:20190407T110000
DTEND;TZID=UTC:20190407T140000
DTSTAMP:20260421T094428
CREATED:20190404T142526Z
LAST-MODIFIED:20190404T160607Z
UID:26437-1554634800-1554645600@www.christchurchsummit.org
SUMMARY:Caroline Farewell Brunch
DESCRIPTION:  \nPlease Join us on Sunday\, April 7th in celebrating Rev. Caroline Dean’s ministry and wishing her well on her new journey!\nThere is only one worship service at 9:30 with a Potluck Brunch following the service at 11:00 am in Barnwell Hall.\nBring a potluck dish to share!\n  \n 
URL:https://www.christchurchsummit.org/event/caroline-farewell-brunch/
ATTACH;FMTTYPE=image/jpeg:https://www.christchurchsummit.org/wp-content/uploads/^2F38F9AE0A26CA73691262924F3E1C7F5DF96423F8EEC9CD64^pimgpsh_fullsize_distr.jpg
END:VEVENT
BEGIN:VEVENT
DTSTART;VALUE=DATE:20190407
DTEND;VALUE=DATE:20190415
DTSTAMP:20260421T094428
CREATED:20190320T190550Z
LAST-MODIFIED:20190320T190550Z
UID:26418-1554595200-1555286399@www.christchurchsummit.org
SUMMARY:Family Promise Hospitality Week - April 7-14th
DESCRIPTION:Family Promise – Hospitality Week!\nOur Family Promise guests are here April 7-14th. Guests need us to provide simple yet yummy dinners each night they’re here. Unsure as to whether this good deed is for you? Email Yesenia Reichart at yreichart@gmail.com for more details.\nPlease sign up via Sign Up Genius  http://www.signups.ccsnj.org/ You are also welcome to sign up for set up\, break down\, and evening (7:30-9:30 PM) shifts. On behalf of the Hospitality Group and our guests\, thank you!!\nNew Volunteers are most welcome!
URL:https://www.christchurchsummit.org/event/family-promise-hospitality-week-april-7-14th/
ATTACH;FMTTYPE=image/jpeg:https://www.christchurchsummit.org/wp-content/uploads/Family-Promise-hi-res.jpg
END:VEVENT
BEGIN:VEVENT
DTSTART;TZID=UTC:20190306T193000
DTEND;TZID=UTC:20190306T203000
DTSTAMP:20260421T094428
CREATED:20190221T174719Z
LAST-MODIFIED:20190221T174719Z
UID:26356-1551900600-1551904200@www.christchurchsummit.org
SUMMARY:Ash Wednesday 2019
DESCRIPTION:Ash Wednesday Service: March 6th at 7:30 pm in the Sanctuary\nJoin us as we find a quiet\, meditative space to prepare us for Lent.
URL:https://www.christchurchsummit.org/event/ash-wednesday-2019/
ATTACH;FMTTYPE=image/jpeg:https://www.christchurchsummit.org/wp-content/uploads/Ash-Wednesday-3.6.19.jpg
END:VEVENT
BEGIN:VEVENT
DTSTART;TZID=UTC:20190306T120000
DTEND;TZID=UTC:20190306T140000
DTSTAMP:20260421T094428
CREATED:20190227T201529Z
LAST-MODIFIED:20190227T201529Z
UID:26389-1551873600-1551880800@www.christchurchsummit.org
SUMMARY:The Gathering Place
DESCRIPTION:  \nThe Gathering Place – A Memory Café Wednesday\, March 6th\nMembers and friends with memory loss are welcome to attend The Gathering Place with their care partners on the first\, Wednesday of every month This new initiative will be held in Lile Hall from 12 noon to 2:00 with a light nutritious lunch\, music\, exercises\, storytelling\, art\, support\, and socialization. Care partners can talk with other care partners around the table. RSVP to brenda@ccsnj.org\nSuggested donation of $5 is greatly appreciated
URL:https://www.christchurchsummit.org/event/the-gathering-place-2/
ATTACH;FMTTYPE=image/jpeg:https://www.christchurchsummit.org/wp-content/uploads/The-Gathering-Place-hi-res-1.jpg
END:VEVENT
END:VCALENDAR